BEGIN:VCALENDAR
VERSION:2.0
PRODID:-//wp-events-plugin.com//7.2.3.1//EN
TZID:America/Detroit
X-WR-TIMEZONE:America/Detroit
BEGIN:VEVENT
UID:269@mpca.net
DTSTART;TZID=America/Detroit:20260424T120000
DTEND;TZID=America/Detroit:20261127T125000
DTSTAMP:20260331T142416Z
URL:https://www.mpca.net/events/virtual-2026-mpca-dental-leadership-meetin
 gs/
SUMMARY:Virtual: 2026 MPCA Dental Leadership Meetings
DESCRIPTION:\nOverview\nThe monthly MPCA Dental Leadership Meeting is a spa
 ce for MPCA member Community Health Center dental leaders to learn\, colla
 borate\, and problem-solve together. This virtual meeting is held on the l
 ast Friday of each month from noon to 12:50 p.m.\n\n\n\nWho should attend?
 \nMPCA member health center leaders within dental teams\, including dental
  directors\, practice managers\, team leaders\, and billing leaders\n\n\n\
 nRegistration\nThere is no cost to register\, however you must register in
  advance by clicking here in order to receive your Zoom link.\n\n\n\nQuest
 ions?\nPlease contact Misty Davis\, Oral Health Integration Manager\, at m
 davis@mpca.net.
END:VEVENT
BEGIN:VTIMEZONE
TZID:America/Detroit
X-LIC-LOCATION:America/Detroit
BEGIN:DAYLIGHT
DTSTART:20260308T030000
TZOFFSETFROM:-0500
TZOFFSETTO:-0400
TZNAME:EDT
END:DAYLIGHT
BEGIN:STANDARD
DTSTART:20261101T010000
TZOFFSETFROM:-0400
TZOFFSETTO:-0500
TZNAME:EST
END:STANDARD
END:VTIMEZONE
END:VCALENDAR