BEGIN:VCALENDAR
VERSION:2.0
PRODID:-//wp-events-plugin.com//7.2.3.1//EN
TZID:America/Detroit
X-WR-TIMEZONE:America/Detroit
BEGIN:VEVENT
UID:310@mpca.net
DTSTART;TZID=America/Detroit:20260427T121500
DTEND;TZID=America/Detroit:20260427T133000
DTSTAMP:20260324T171134Z
URL:https://www.mpca.net/events/virtual-facilitating-effective-health-cent
 er-mergers-and-successor-in-interest-requests/
SUMMARY:Virtual: Facilitating Effective Health Center Mergers and Successor
 -in-Interest Requests
DESCRIPTION:\n\n&nbsp\;\nThis event is open to MPCA member organizations on
 ly.\n&nbsp\;\nOverview\nMergers and acquisitions among health centers can 
 strengthen services\, expand reach\, and ensure long-term sustainability- 
 if they are carefully planned and executed.\n\nThis session will guide par
 ticipants through the HRSA Successor-In-Interest (SII) process\, addressin
 g operational\, cultural\, workforce\, and service area considerations ess
 ential for successful implementation.\n\nWe will explore how to ensure tha
 t visions and missions align\, strategies for engaging boards and staff\, 
 and the operational steps necessary to transition services smoothly.\n\nPa
 rticipants will gain practical tools to assess merger readiness\, understa
 nd compliance requirements\, and develop a roadmap for post-merger integra
 tion that preserves mission while strengthening operations.\n\n\n\nTarget 
 Audience\nThis session is designed for health center leadership teams\, in
 cluding CEOs\, CFOs\, COOs\, CMOs\, and board leaders.\n\n\n\nPresenter\n\
 n 	Carrie Riley\, J.D.\, Counsel\, Powers Pyles\, Sutter &amp\; Verville P
 C\n 	Jennifer Henderson\, Founder &amp\; Consultant\, 330 Partners\n\n\n\n
 \nRegistration\nPlease use this link to register for this meeeting.\n\n**P
 lease note that authentication is required to enter all MPCA meetings and 
 webinars! Please create your free basic Zoom account (https://zoom.us/sign
 up) and login prior to the meeting.\n\n\n\nQuestions?\nPlease contact Phil
 lip Bergquist at pbergquist@mpca.net with any questions or need for clarif
 ication.
END:VEVENT
BEGIN:VTIMEZONE
TZID:America/Detroit
X-LIC-LOCATION:America/Detroit
BEGIN:DAYLIGHT
DTSTART:20260308T030000
TZOFFSETFROM:-0500
TZOFFSETTO:-0400
TZNAME:EDT
END:DAYLIGHT
END:VTIMEZONE
END:VCALENDAR