BEGIN:VCALENDAR
VERSION:2.0
PRODID:-//wp-events-plugin.com//7.2.3.1//EN
TZID:America/Detroit
X-WR-TIMEZONE:America/Detroit
BEGIN:VEVENT
UID:313@mpca.net
DTSTART;TZID=America/Detroit:20260424T114500
DTEND;TZID=America/Detroit:20260424T123000
DTSTAMP:20260410T142547Z
URL:https://www.mpca.net/events/virtual-growing-as-a-leader-advancing-sud-
 care-through-leadership-development-learning-series/
SUMMARY:Virtual: Growing as a Leader: Advancing SUD Care Through Leadership
  Development Learning Series
DESCRIPTION:\nOverview\nThis LIVE virtual series presents a comprehensive p
 rogram designed to inspire transformation in SUD/AUD care by equipping hea
 lthcare leaders and teams with the tools\, skills\, and confidence they ne
 ed to lead with purpose and drive meaningful change. By strengthening lead
 ership at every level\, fostering collaboration\, and embedding a structur
 ed framework for progress\, the program creates sustainable processes that
  improve outcomes for patients\, professionals\, and the organizations the
 y serve.\nWhat Would you Learn?\nThe series will:\n\n 	Empower Healthcare 
 Teams: Equip interprofessional care teams (providers\, administrators\, an
 d staff) with leadership skills to enhance engagement\, collaboration\, an
 d patient care.\n 	Improve Care Quality: Strengthen confidence and compete
 nce in delivering evidence-based\, patient-centered care\, treating SUD/AU
 D as a chronic disease.\n 	Address Systemic Barriers: Enhance patient and 
 staff experiences and ensure equitable access to SUD/AUD care services.\n\
 n\n\n\nSession Dates and Times\n\n 	Welcome Session: Introduction to the L
 eadership Series and Logistics (April 24 from 11:45 am to 12:30 pm)\n 	Ses
 sion 1: Introduction to Leadership: Shifting the Paradigm of SUD Care (May
  1 from 11:45 am to 1:00 pm)\n 	Session 2: What Kind of Leader Are You? Gr
 owing Leadership to Strengthen SUD Programs (May 15 from 11:45 am to 1:00 
 pm)\n 	Session 3: Developing a Personal Leadership Growth Plan for SUD Man
 agement  (June 5 from 11:45 am to 1:00 pm)\n 	Session 4: The Leader as a 
 Change Agent: Leading Through Chaos\, Transformation\, and Innovation  (J
 une 26 from 11:45 am to 1:00 pm)\n 	Session 5: Followership and Empowermen
 t: Empowering Teams to Implement SUD Care (August 21 from 11:45 am to 1:00
  pm)\n 	Session 6: Shaping Yor Leadership Path: Finalizing Your Leadership
  Development Plan (August 28 from 11:45 am to 1:00 pm)\n\n\n\n\nContinuing
  Education\nApplication for CME credit has been filed with the American Ac
 ademy of Family Physicians. Determination of credit is pending. Applicatio
 n for CE credit has been submitted to the NASW-Michigan Chapter.\n\n\n\nWh
 o should attend?\nMD/DO\, NP\, PA\, RN\, Care Managers\, Social Workers\, 
 Behavioral Health Professionals\, Administrative Leadership\, Medical Assi
 stants\, and Reception Staff. Teams are strongly encouraged to register to
 gether!\n\n\n\nPresenters\n\n 	Dr. Eva Quirion\, PhD\, FNP\n 	Dr. Lynn M. 
 Kilma DNP\, CNE\, CPAFH\, ADRN\, ANP-BC\n\n\n\n\nRegistration\nSign up for
  the April 24th welcome session by clicking here.\n\nThis session will pro
 vide an overview of the leadership series and logistics for registering fo
 r the remaining sessions of the series in the MI-CCSI Learning Management 
 System (LMS).\n\n\n\nQuestions?\nFor questions or needed support\, please 
 reach out to Jessica House\, MPCA Director of Behavioral Health\, jhouse@m
 pca.net.
END:VEVENT
BEGIN:VTIMEZONE
TZID:America/Detroit
X-LIC-LOCATION:America/Detroit
BEGIN:DAYLIGHT
DTSTART:20260308T030000
TZOFFSETFROM:-0500
TZOFFSETTO:-0400
TZNAME:EDT
END:DAYLIGHT
END:VTIMEZONE
END:VCALENDAR