BEGIN:VCALENDAR
VERSION:2.0
PRODID:-//wp-events-plugin.com//7.2.3.1//EN
TZID:America/Detroit
X-WR-TIMEZONE:America/Detroit
BEGIN:VEVENT
UID:287@mpca.net
DTSTART;TZID=America/Detroit:20260423T090000
DTEND;TZID=America/Detroit:20260423T160000
DTSTAMP:20260421T130733Z
URL:https://www.mpca.net/events/virtual-introduction-to-team-based-care-tr
 aining-micmt-approved-8/
SUMMARY:Virtual: Introduction to Team-Based Care Training (MICMT Approved)
DESCRIPTION:\nOverview\nThe "Introduction to Team-Based Care" course equips
  learners with the knowledge and skills to work collaboratively in a multi
 disciplinary setting\, ensuring coordinated\, safe\, and patient-centered 
 care. Open to all care team members (nurses\, MAs\, CHWs\, LMSW\, Pharmaci
 sts)\, the course covers foundational elements of  Team-Based Care and  
 Care Management\, preparing participants to effectively integrate care man
 agement skills within health centers.\n\n• Why\, What\, Who and How: Tea
 m-Based Care\n• Care Management Process\n• Outcomes and Triple/Quadrup
 le AIM\n• Provider Delivered Care Management (PDCM) Billing Applications
 .\nPlease note: Each participant must have an MICMT account by April 15th\
 , 2026\, to complete the course assessment and post-test to earn CEs. Plea
 se visit micmt-cares.org to create an account.\n\n\n\n\nTarget Audience\n\
 n 	Nurses\n 	Medical Assistants\n 	Community Health Workers\n 	Social Work
 /Behavioral Health Staff\n 	Pharmacists\n\n\n\n\nPresenter\nCandy Vertalka
 \, RN\, Consultant\, Michigan Primary Care Association\n\n\n\nContinuing E
 ducation\nPlease visit the MICMT course registration webpage at MICMT-care
 s.org to obtain CE information.\n\n\n\nZoom Registration\nThe registration
  cost is $30 per participant\, and advanced registration is required.\n\nA
  zoom link will  be shared with registrants approximately one week before
  the training date.\n\n\n\nQuestions?\nPlease reach out to Candy Vertalka 
 at cvertalka@mpca.net with any questions or need for clarification.
END:VEVENT
BEGIN:VTIMEZONE
TZID:America/Detroit
X-LIC-LOCATION:America/Detroit
BEGIN:DAYLIGHT
DTSTART:20260308T030000
TZOFFSETFROM:-0500
TZOFFSETTO:-0400
TZNAME:EDT
END:DAYLIGHT
END:VTIMEZONE
END:VCALENDAR